BEGIN:VCALENDAR
VERSION:2.0
PRODID:-//Sierra Leone Fellowship of Evangelical Students - ECPv6.15.11//NONSGML v1.0//EN
CALSCALE:GREGORIAN
METHOD:PUBLISH
X-ORIGINAL-URL:https://www.slefes.org.sl
X-WR-CALDESC:Events for Sierra Leone Fellowship of Evangelical Students
REFRESH-INTERVAL;VALUE=DURATION:PT1H
X-Robots-Tag:noindex
X-PUBLISHED-TTL:PT1H
BEGIN:VTIMEZONE
TZID:UTC
BEGIN:STANDARD
TZOFFSETFROM:+0000
TZOFFSETTO:+0000
TZNAME:UTC
DTSTART:20220101T000000
END:STANDARD
END:VTIMEZONE
BEGIN:VEVENT
DTSTART;TZID=UTC:20230829T090000
DTEND;TZID=UTC:20230904T170000
DTSTAMP:20260424T190640
CREATED:20210913T214411Z
LAST-MODIFIED:20230215T224157Z
UID:1059-1693299600-1693846800@www.slefes.org.sl
SUMMARY:33rd National Discipleship Conference
DESCRIPTION:National Discipleship conference is our major Discipleship gathering in the ministry brings together SLEFES Associates and students from different campuses for a week long expository teaching\, discipleship training and  inductive bible study on a strategic theme that speaks on contemporary issues affect students on campus. \n\n\n\nThis conference is usually scheduled at the end of the  Academic year between August and September. \n\n\n\nFree
URL:https://www.slefes.org.sl/event/church-family-picnic-and-play-at-the-park/
ATTACH;FMTTYPE=image/jpeg:https://www.slefes.org.sl/wp-content/uploads/2021/09/WhatsApp-Image-2022-08-05-at-5.13.31-AM.jpeg
END:VEVENT
BEGIN:VEVENT
DTSTART;TZID=UTC:20230829T090000
DTEND;TZID=UTC:20230904T170000
DTSTAMP:20260424T190640
CREATED:20230215T152553Z
LAST-MODIFIED:20230215T153958Z
UID:1525-1693299600-1693846800@www.slefes.org.sl
SUMMARY:33rd National Discipleship Conference
DESCRIPTION:National Discipleship conference is our major Discipleship gathering in the ministry brings together SLEFES Associates and students from different campuses for a week long expository teaching\, discipleship training and  inductive bible study on a strategic theme that speaks on contemporary issues affect students on campus. \n\n\n\nThis conference is usually scheduled at the end of the  Academic year between August and September. \n\n\n\nFree
URL:https://www.slefes.org.sl/event/33rd-national-discipleship-conference/
ATTACH;FMTTYPE=image/jpeg:https://www.slefes.org.sl/wp-content/uploads/2023/02/WhatsApp-Image-2022-09-05-at-04.56.44-1.jpeg
END:VEVENT
END:VCALENDAR