BEGIN:VCALENDAR
VERSION:2.0
PRODID:-//Sierra Leone Fellowship of Evangelical Students - ECPv6.15.11//NONSGML v1.0//EN
CALSCALE:GREGORIAN
METHOD:PUBLISH
X-WR-CALNAME:Sierra Leone Fellowship of Evangelical Students
X-ORIGINAL-URL:https://www.slefes.org.sl
X-WR-CALDESC:Events for Sierra Leone Fellowship of Evangelical Students
REFRESH-INTERVAL;VALUE=DURATION:PT1H
X-Robots-Tag:noindex
X-PUBLISHED-TTL:PT1H
BEGIN:VTIMEZONE
TZID:UTC
BEGIN:STANDARD
TZOFFSETFROM:+0000
TZOFFSETTO:+0000
TZNAME:UTC
DTSTART:20220101T000000
END:STANDARD
END:VTIMEZONE
BEGIN:VEVENT
DTSTART;TZID=UTC:20230406T090000
DTEND;TZID=UTC:20230408T170000
DTSTAMP:20260425T125254
CREATED:20230215T152603Z
LAST-MODIFIED:20230215T153427Z
UID:1526-1680771600-1680973200@www.slefes.org.sl
SUMMARY:Regional Leadership Training Conference North Kono
DESCRIPTION:We strongly believe that students on campus today will be the leaders of every facet of society tomorrow. To ensure they are prepared\, SLEFES through various platforms such as the annually “Regional Leadership Training Conference” has groom the students in the Jesus model of Servant-leadership. This we believe\, will make them irrefutable leaders today on campus and society upon graduation. We build the future leaders today. \n\n\n\nREGIONAL LEADERSHIP TRAINING CONFERENCE REPORT 2022\n\n\n\nINTRODUCTION \n\n\n\nThe strategic resources in any institution is the human resources\, the level of development and training given to the leaders will determine the impact and growth of the institution. On this backdrop\, we see our student leaders as strategic component in achieving the vision of SLEFES in the different campuses. The regional leadership training conference gears towards capacity building for leaders and emerging leaders\, this goal was achieved – to God be the glory. This report covers the theme exposition\, student attendance\, conference topics and the challenges. \n\n\n\nTHEME EXPOSITION “AUTHENTIC LEADERSHIP” PSALM 78:72 \n\n\n\nThe theme exposition for this year’s conference was handled by the Training Secretary of SLEFES\, Mr. Joseph Benkutay Conteh. In His presentation we looked at King David as an Authentic leader who shepherd the children of Israel with Integrity of heart and skillfulness of hands. \n\n\n\nWe looked at the three (3) S of Authentic Leadership: \n\n\n\n\nSelf-Preparation\n\n\n\nSelf-Discipline\n\n\n\nSacrifice\n\n\n\n\nOn the second day\, we looked at Jesus Christ as an authentic Leader and His approach to leadership. In His journey with the disciples he demonstrated three (3) authentic leadership development models: \n\n\n\n\nEmpowerment Model\n\n\n\nServant leadership Model\n\n\n\nTransformative Model\n\n\n\n\nATTENDANCE \n\n\n\nThe student attendance attracted students from nine (9) Christian unions within the western region\, with an attendance of (40) student leaders. \n\n\n\nSPEAKERS AND TOPICS \n\n\n\nThe leadership training conference caters for student leaders in and holistic manner where we developed topics that address issues affecting the different Christian unions\, below are the topics covered: \n\n\n\n\n Mr. Joseph Benkutay Conteh          Authentic Leadership\n\n\n\n Mr. Joseph J. Sesay                        The power of team work in achieving your goal as an authentic leader.\n\n\n\nMr. Joseph Benkutay Conteh          Effective communication\, meeting and report writing\n\n\n\nMr. Albright M S Barrie                 The integrity and influence of an authentic leader.\n\n\n\nMr. Albright M S Barrie                 The power of the Holy Spirit in developing an authentic leader\n\n\n\nPanels                                             Godly relationship that leads to marriage\n\n\n\n\nSTUDENTS FEEDBACK \n\n\n\nThe topics addressed in this conference was timely\, the student leaders see the conference as a mandate that they should be authentic as well as develop the next generation of Authentic leaders that will provide leadership for the campus fellowship. \n\n\n\nCHALLENGES \n\n\n\nThe students’ cooperation for the program in term of attendance was good but didn’t have representative from the different CUs in the western region\, which was our goal\, to train leaders in all the campuses were SLEFES is in operation. \n\n\n\nThe student constituent direly need to step up in the area of their commitment and responsibility\, in order for the effective and efficient running of their lunch time fellowship on campus \n\n\n\nWe have seen low commitment on our student leaders in the area of acquiring new skills especially on leadership development\, integrity management and capacity building. \n\n\n\nRECOMMENDATION \n\n\n\nWe encourage and motivate our student leaders to embrace knowledge acquisition and skill development as the keys towards strategic leadership.  Knowledge is a unique tool to build a firm foundation in our leadership development journey. \n\n\n\nOur student leaders in the different campuses should prepare to attend leadership development training programs such as the Public Lectures and Regional Leadership Training Conference. \n\n\n\nCONCLUSION \n\n\n\nTo God be the glory! The regional leadership training conference was successful\, By God’s grace our student leaders are ready to maximize the knowledge gained as well as the required skills needed in the Christian Union base on our mission statement REACHING STUDENTS FOR CHRIST TO IMPACT OUR NATION.  \n\n\n\nPREPARE AND PRESENTED BY: \n\n\n\nMr. Joseph Benkutay Conteh \n\n\n\nTraining Secretary\, Western region. \n\n\n\nFree
URL:https://www.slefes.org.sl/event/regional-leadership-training-conference-north-kono/
ATTACH;FMTTYPE=image/jpeg:https://www.slefes.org.sl/wp-content/uploads/2023/02/WhatsApp-Image-2022-08-13-at-5.41.59-AM-2.jpeg
END:VEVENT
BEGIN:VEVENT
DTSTART;TZID=UTC:20230331T080000
DTEND;TZID=UTC:20230331T170000
DTSTAMP:20260425T125254
CREATED:20230215T152609Z
LAST-MODIFIED:20230215T152910Z
UID:1527-1680249600-1680282000@www.slefes.org.sl
SUMMARY:Public Lecture
DESCRIPTION:The Theme for this Public Lecture is “Mental Health” in collaboration with Mental Health Coalition\, Sierra Leone. \n\n\n\nFree
URL:https://www.slefes.org.sl/event/public-lecture/
ATTACH;FMTTYPE=image/jpeg:https://www.slefes.org.sl/wp-content/uploads/2023/02/WhatsApp-Image-2022-09-05-at-04.56.22.jpeg
END:VEVENT
BEGIN:VEVENT
DTSTART;TZID=UTC:20230224T130000
DTEND;TZID=UTC:20230224T150000
DTSTAMP:20260425T125254
CREATED:20210930T214505Z
LAST-MODIFIED:20230215T152454Z
UID:1247-1677243600-1677250800@www.slefes.org.sl
SUMMARY:Jesus Give Water Campaign
DESCRIPTION:Jesus gives living water evangelism was designed to enable students in various campuses share the gospel of our Lord Jesus Christ with their colleagues and staff. It’s part of SLEFES inspiring Evangelism drive with the theme: work while it is day John 9:4. The first pilot phase was successful at Milton Margai Technical University Brooks Fields. We reached out to 300 students and lecturers by giving each a bottle of water and salvation tract. \n\n\n\nFree
URL:https://www.slefes.org.sl/event/jesus-give-water-campaign-2/
ATTACH;FMTTYPE=image/jpeg:https://www.slefes.org.sl/wp-content/uploads/2023/02/water.jpeg
END:VEVENT
BEGIN:VEVENT
DTSTART;TZID=UTC:20230217T130000
DTEND;TZID=UTC:20230217T150000
DTSTAMP:20260425T125254
CREATED:20210930T214724Z
LAST-MODIFIED:20230215T151945Z
UID:1249-1676638800-1676646000@www.slefes.org.sl
SUMMARY:Jesus Give Water Campaign
DESCRIPTION:Jesus gives living water evangelism was designed to enable students in various campuses share the gospel of our Lord Jesus Christ with their colleagues and staff. It’s part of SLEFES inspiring Evangelism drive with the theme: work while it is day John 9:4. The first pilot phase was successful at Milton Margai Technical University Brooks Fields. We reached out to 300 students and lecturers by giving each a bottle of water and salvation tract \n\n\n\nFree
URL:https://www.slefes.org.sl/event/jesus-give-water-campaign/
LOCATION:Freetown\, Sierra Leone
ATTACH;FMTTYPE=image/jpeg:https://www.slefes.org.sl/wp-content/uploads/2023/02/WhatsApp-Image-2023-02-07-at-22.46.10.jpeg
END:VEVENT
END:VCALENDAR