BEGIN:VCALENDAR
VERSION:2.0
PRODID:-//Sierra Leone Fellowship of Evangelical Students - ECPv6.15.11//NONSGML v1.0//EN
CALSCALE:GREGORIAN
METHOD:PUBLISH
X-ORIGINAL-URL:https://www.slefes.org.sl
X-WR-CALDESC:Events for Sierra Leone Fellowship of Evangelical Students
REFRESH-INTERVAL;VALUE=DURATION:PT1H
X-Robots-Tag:noindex
X-PUBLISHED-TTL:PT1H
BEGIN:VTIMEZONE
TZID:UTC
BEGIN:STANDARD
TZOFFSETFROM:+0000
TZOFFSETTO:+0000
TZNAME:UTC
DTSTART:20220101T000000
END:STANDARD
END:VTIMEZONE
BEGIN:VEVENT
DTSTART;TZID=UTC:20231023T130000
DTEND;TZID=UTC:20231023T180000
DTSTAMP:20260424T190452
CREATED:20210930T200513Z
LAST-MODIFIED:20240121T082401Z
UID:1231-1698066000-1698084000@www.slefes.org.sl
SUMMARY:SLEFES @41 Thanksgiving Service
DESCRIPTION:Free
URL:https://www.slefes.org.sl/event/slefes-41-thanksgiving-service/
ATTACH;FMTTYPE=image/jpeg:https://www.slefes.org.sl/wp-content/uploads/2023/02/WhatsApp-Image-2023-02-07-at-21.27.42.jpeg
END:VEVENT
END:VCALENDAR